BEGIN:VCALENDAR
VERSION:2.0
PRODID:-//TYPO3/NONSGML Calendarize//EN
BEGIN:VEVENT
UID:calendarize-buchvorstellung-contingencies-in-urban-future-making
DTSTAMP:20260424T133450Z
DTSTART:20260428T150000Z
DTEND:20260428T160000Z
SUMMARY:Buchvorstellung: Contingencies in Urban Future-Making
DESCRIPTION:Wir freuen uns sehr\, Sie zur Buchvorstellung des neuen Bandes
  aus der Reihe unseres Graduiertenkollegs „Urban Future-Making“ einzul
 aden: Am 28. April 2026 feiern wir die Veröffentlichung des zweiten Bande
 s der Reihe mit dem Titel „Contingencies in Urban Future-Making. Pitfall
 s\, Potentialities\, and Transformative Practices“.\nDie Veranstaltung f
 indet im HCU-Auditorium (Henning-Voscherau-Platz 1\, 20457 Hamburg) statt.
  Die Präsentation gibt Einblicke in die Ergebnisse des zweiten Bandes und
  dauert etwa 60 Minuten. Im Anschluss freuen wir uns auf einen gemeinsamen
  Umtrunk und Zeit zum Austausch.\nEine Anmeldung ist nicht zwingend erford
 erlich\, wir würden uns jedoch über eine kurze E-Mail zur Bestätigung I
 hrer Teilnahme freuen\, damit wir den Abend besser planen können: urban-f
 uture-making@hcu-hamburg.de. Die Teilnahme steht allen offen\, auch der br
 eiten Öffentlichkeit.\nDie Publikation ist ab sofort als Open-Access-Ausg
 abe auf der Website von transcript sowie im Buchhandel erhältlich.
X-ALT-DESC;FMTTYPE=text/html:<p>Wir freuen uns sehr\, Sie zur Buchvorstell
 ung des neuen Bandes aus der Reihe unseres Graduiertenkollegs „<a href="
 https://urban-future-making.hcu-hamburg.de/">Urban Future-Making</a>“ ei
 nzuladen: Am 28. April 2026 feiern wir die Veröffentlichung des zweiten B
 andes der Reihe mit dem Titel „Contingencies in Urban Future-Making. Pit
 falls\, Potentialities\, and Transformative Practices“.</p>\n<p>Die Vera
 nstaltung findet im HCU-Auditorium (Henning-Voscherau-Platz 1\, 20457 Hamb
 urg) statt. Die Präsentation gibt Einblicke in die Ergebnisse des zweiten
  Bandes und dauert etwa 60 Minuten. Im Anschluss freuen wir uns auf einen 
 gemeinsamen Umtrunk und Zeit zum Austausch.</p>\n<p>Eine Anmeldung ist nic
 ht zwingend erforderlich\, wir würden uns jedoch über eine kurze E-Mail 
 zur Bestätigung Ihrer Teilnahme freuen\, damit wir den Abend besser plane
 n können:<a href="mailto:urban-future-making@hcu-hamburg.de"> urban-futur
 e-making@hcu-hamburg.de</a>. Die Teilnahme steht allen offen\, auch der br
 eiten Öffentlichkeit.</p>\n<p>Die Publikation ist ab sofort als <a href="
 https://www.transcript-verlag.de/978-3-8376-7900-7/contingencies-in-urban-
 future-making/">Open-Access-Ausgabe auf der Website von transcript</a> sow
 ie im Buchhandel erhältlich.</p>
LOCATION:Auditorium
END:VEVENT
END:VCALENDAR
